BEGIN:VCALENDAR
VERSION:2.0
PRODID:https://artsfront.com/event/bAW80w9-reading-climate-indigenous-liter
 atures-school-english-and-sustainable-futures-symposium
BEGIN:VEVENT
UID:69e611a50d06d
DTSTART:20220120T080000Z
SEQUENCE:0
TRANSP:OPAQUE
DTEND:20220120T093000Z
URL:https://artsfront.com/event/bAW80w9-reading-climate-indigenous-literatu
 res-school-english-and-sustainable-futures-symposium
LOCATION:University of Melbourne
SUMMARY:Reading Climate: Indigenous literatures\, school English and sustai
 nable futures Symposium
CLASS:PUBLIC
DESCRIPTION:A Literary Education Lab Initiative in collaboration with Stell
 a\nEllen van NeervenProfessor Tony BirchProfessor Kathryn Yusoff
DTSTAMP:20260420T114437Z
END:VEVENT
END:VCALENDAR