BEGIN:VCALENDAR
VERSION:2.0
PRODID:https://artsfront.com/event/vb7e2y9-little-lunch-online-llol
BEGIN:VEVENT
UID:69eaf57ad9e17
DTSTART:20200602T013000Z
SEQUENCE:0
TRANSP:OPAQUE
DTEND:20200602T020000Z
URL:https://artsfront.com/event/vb7e2y9-little-lunch-online-llol
LOCATION:Cairns
SUMMARY:Little Lunch #46
CLASS:PUBLIC
DESCRIPTION:JUTE and NORPA - the silver linings in troubled times...a regio
 nal theatre perspective.\nJulian Louis the CEO and Artistic Director at N
 ORPA and Suellen Maunder Artistic Director/CEO of JUTE Theatre Cairns 
 join Bec Mac to talk about the unique position regional Theatre Compani
 es have found them selves in due to COVID 19 and the opportunities that 
 have emerged to make new and exciting work!\nJulian has published an arti
 cle on the unexpected positives of COVID-19 - here's an excerpt:\nNORPA ha
 s used this valuable time for future programming\, project development and
  restructuring. As a team\, we’re taking the opportunity to reassess wha
 t programming Lismore City Hall looks like\, developing a youth theatre hu
 b\, and how we engage with more local artists and more communities in the 
 Northern Rivers. We’re already planning our role in the rebuilding of Li
 smore and our contribution to cultural life in the region.\nThese unexpect
 ed outcomes accumulate\, and we eventually settle into a new normal. How w
 ill we maintain the positives that have emerged though? When the treadmill
  starts cranking up again\, how will we maintain our own natural pace of l
 ife? I hope to return with lessons learned\, like investing more in things
  closer to home and nourishing those around us.\nIf we’re strong togethe
 r\, we’ll be alright. Resilience might be sparked by individuals\, but i
 t’s forged by communities\, which is why we all choose to live here.\nht
 tps://artsnorthernrivers.com.au/the-unexpected-positives-of-covid-19/
DTSTAMP:20260424T044546Z
END:VEVENT
END:VCALENDAR